BEGIN:VCALENDAR
VERSION:2.0
PRODID:-//LSD Art &amp; Performance - ECPv6.15.20//NONSGML v1.0//EN
CALSCALE:GREGORIAN
METHOD:PUBLISH
X-WR-CALNAME:LSD Art &amp; Performance
X-ORIGINAL-URL:https://lsdartandperformance.com
X-WR-CALDESC:Events for LSD Art &amp; Performance
REFRESH-INTERVAL;VALUE=DURATION:PT1H
X-Robots-Tag:noindex
X-PUBLISHED-TTL:PT1H
BEGIN:VTIMEZONE
TZID:America/Vancouver
BEGIN:DAYLIGHT
TZOFFSETFROM:-0800
TZOFFSETTO:-0700
TZNAME:PDT
DTSTART:20240310T100000
END:DAYLIGHT
BEGIN:STANDARD
TZOFFSETFROM:-0700
TZOFFSETTO:-0800
TZNAME:PST
DTSTART:20241103T090000
END:STANDARD
BEGIN:DAYLIGHT
TZOFFSETFROM:-0800
TZOFFSETTO:-0700
TZNAME:PDT
DTSTART:20250309T100000
END:DAYLIGHT
BEGIN:STANDARD
TZOFFSETFROM:-0700
TZOFFSETTO:-0800
TZNAME:PST
DTSTART:20251102T090000
END:STANDARD
BEGIN:DAYLIGHT
TZOFFSETFROM:-0800
TZOFFSETTO:-0700
TZNAME:PDT
DTSTART:20260308T100000
END:DAYLIGHT
BEGIN:STANDARD
TZOFFSETFROM:-0700
TZOFFSETTO:-0800
TZNAME:PST
DTSTART:20261101T090000
END:STANDARD
END:VTIMEZONE
BEGIN:VEVENT
DTSTART;TZID=America/Vancouver:20250817T154500
DTEND;TZID=America/Vancouver:20250817T163000
DTSTAMP:20260421T035709
CREATED:20250807T061829Z
LAST-MODIFIED:20250807T061829Z
UID:482-1755445500-1755448200@lsdartandperformance.com
SUMMARY:Brasilfest 2025 - Show Brazil!
DESCRIPTION:Eduardo Mendonça & Show Brazil! hit the stage at BrasilFest 2025 on Sunday\, August 17th at 3:45 p.m. at the iconic Mural Amphitheater at Seattle Center!\n\nDon’t miss this high-energy show blending MPB\, Bossa Nova\, Baião\, Samba-Reggae\, Brazilian Rock\, and more! Eduardo\, the creator of the “Bossa-Pop” and heart behind Show Brazil!\, brings the spirit of Brazil to life in an unforgettable celebration of rhythm\, culture\, and joy.
URL:https://lsdartandperformance.com/event/brasilfest-2025-show-brazil/
LOCATION:Seattle Center\, 305 Harrison Street\, Seattle\, WA\, 98109\, United States
ATTACH;FMTTYPE=image/jpeg:https://lsdartandperformance.com/wp-content/uploads/2023/02/2013showcarnavalneptune.jpg
ORGANIZER;CN="Brasilfest":MAILTO:info@brasilfest.org
END:VEVENT
BEGIN:VEVENT
DTSTART;TZID=America/Vancouver:20250817T123000
DTEND;TZID=America/Vancouver:20250817T131500
DTSTAMP:20260421T035709
CREATED:20250807T061303Z
LAST-MODIFIED:20250807T061303Z
UID:474-1755433800-1755436500@lsdartandperformance.com
SUMMARY:Brasilfest 2025 - Onda Verde at Seattle Center!
DESCRIPTION:Join us for our set at BrasilFest 2025!\n\nOnda Verde will be at the Mural Stage at 12:30 pm on Sunday\, August 17th\, featuring Lindsey Dabek (vocals)\, Brion Felts (bass)\, Ken Klettke (percussion)\, Rich Lague (guitar) and Philip Molin (piano)\, plus our very special guest on trombone\, the fantastic Ted Bohn!!\nCome enjoy fun in the sun and a variety of Samba\, bossa nova\, choro and more!\nGreat music\, food and fun all day long – and the festival is FREE!!\n\nCheck out the full schedule HERE!\n\nWe hope to see you there! 
URL:https://lsdartandperformance.com/event/brasilfest-2025-onda-verde-at-seattle-center/
LOCATION:Seattle Center\, 305 Harrison Street\, Seattle\, WA\, 98109\, United States
ATTACH;FMTTYPE=image/jpeg:https://lsdartandperformance.com/wp-content/uploads/2025/08/OV2025-scaled.jpg
ORGANIZER;CN="Brasilfest":MAILTO:info@brasilfest.org
END:VEVENT
BEGIN:VEVENT
DTSTART;TZID=America/Vancouver:20250402T190000
DTEND;TZID=America/Vancouver:20250402T210000
DTSTAMP:20260421T035709
CREATED:20250327T052010Z
LAST-MODIFIED:20250327T052034Z
UID:352-1743620400-1743627600@lsdartandperformance.com
SUMMARY:Las America Ensemble at North City Bistro!
DESCRIPTION:Come have some fun with us as we celebrate the music of the Americas! \nLAS AMERICA on Wednesday\, April 2nd at 7 pm \nLas America Ensemble is making its debut at North City Bistro!! \nEnsemble features the talents of: \nEric Verlinde\, Dean Schmidt\, Lindsey Dabek\, Maria Cristela Gonzalez\, Myrna Santana\, Sammy Alamillo \nGET TICKETS HERE!
URL:https://lsdartandperformance.com/event/las-americas-ensemble-at-north-city-bistro/
LOCATION:North City Bistro\, 1520 NE 177th ST\, Seattle\, WA\, 98155\, United States
ATTACH;FMTTYPE=image/jpeg:https://lsdartandperformance.com/wp-content/uploads/2025/03/NCBshowposter.jpg
END:VEVENT
BEGIN:VEVENT
DTSTART;TZID=America/Vancouver:20250222T190000
DTEND;TZID=America/Vancouver:20250222T233000
DTSTAMP:20260421T035709
CREATED:20250124T012440Z
LAST-MODIFIED:20250124T015417Z
UID:319-1740250800-1740267000@lsdartandperformance.com
SUMMARY:Brazilian Carnaval 2025 with Show Brazil!
DESCRIPTION:Get ready to DANCE! Come have some fun with Show Brazil! and enjoy Eduardo Mendonça’s amazing show\, featuring Lindsey Dabek on backing vocals! \nSaturday\, February 22nd at Nectar Lounge in Seattle\, WA \nGET TICKETS HERE! \nSHOW BRAZIL! is the soul of the Brazilian Culture in a highly energetic performance! The group is internationally recognized and respected\, well known throughout the Northwest for events such as Bumbershoot and BrasilFest. Show Brazil! has delighted audiences in the United States\, Brazil\, and Canada for over twenty years.
URL:https://lsdartandperformance.com/event/brazilian-carnaval-2025-with-show-brazil/
LOCATION:Nectar Lounge\, 412 N 36th St\, Seattle\, WA\, 98103\, United States
ATTACH;FMTTYPE=image/jpeg:https://lsdartandperformance.com/wp-content/uploads/2025/01/Carnaval2025.jpg
END:VEVENT
END:VCALENDAR